BEGIN:VCALENDAR
VERSION:2.0
PRODID:-//wp-events-plugin.com//7.2.3.1//EN
BEGIN:VEVENT
UID:31@brontebirthplace.com
DTSTART:20260623T183000Z
DTEND:20260623T200000Z
DTSTAMP:20260414T163452Z
URL:https://brontebirthplace.com/events/monthly-talk-emma-conally-barklem-
 the-high-flight-50-poems-inspired-by-emily-brontes-hawk/
SUMMARY:Monthly Talk: Emma Conally-Barklem 'The High Flight: 50 Poems Inspi
 red by Emily Brontë's Hawk'
DESCRIPTION:'The High Flight: 50 Poems Inspired by Emily Brontë's Hawk'\n\
 nSpeaker: Emma Conally-Barklem\n\nDate: Tuesday 23rd June\, 6:30pm\n\nLoca
 tion: Brontë Birthplace\, 72-74 Market Street\, Thornton\, BD13 3HF\n\n\n
 \n&nbsp\;\n\nJoin us for a fascinating journey through space and time as E
 mma discusses the process of creating an imagined world from one of the fe
 w details known about Emily Brontë. It is believed she rescued then kept 
 a Merlin Hawk who she called Nero. Her bird of prey soars through history 
 and the West Yorkshire landscape both quarry and predator. Conally-Barklem
  explores what it means to be captive and to be wild\, the condition of th
 e falconer\, its lore and mystery through the enigmatic Brontë sister who
  stands both inside and outside of time.\n\n'By turns mythic\, soaring\, e
 arthbound and unyielding\, this collection is a dazzling addition to the B
 rontë canon.’\n\nKaren Powell\, author of Fifteen Wild Decembers\n\n‘
 A truly astonishing collection bristling with piercing insight and origina
 lity- this is Conally-Barklem at the height of her powers’\n\nSharon Wri
 ght\, journalist and Brontë biographer\n\n‘One of the most interesting 
 British poets working today’\n\nGraham Watson\, author of The Invention 
 of Charlotte Brontë\n\n&nbsp\;\n\nEmma Conally-Barklem is an author\, yog
 a teacher and workshop facilitator based in Yorkshire. Her first collectio
 n The Ridings was curated into an exhibition at South Square gallery in he
 r hometown\, Bradford. Hymns from the Sisters was written after a residenc
 y at the Brontë Parsonage Museum. She was a core poet for the BBC’s Con
 tains Strong Language Poetry Festival 2025 and a guest on BBC Radio 4’s 
 flagship arts magazine Front Row discussing the Brontës and their lives. 
 Emma won The Society of Young Publishers First Chapter Award 2025. Emily B
 rontë’s Hawk is her first full collection.\n\nTicket Price: £10\n\nBuy
  Tickets Here
ATTACH;FMTTYPE=image/jpeg:https://brontebirthplace.com/wp-content/uploads/
 2026/01/20230904113932_IMG_7098.jpg
END:VEVENT
END:VCALENDAR