BEGIN:VCALENDAR
VERSION:2.0
PRODID:-//wp-events-plugin.com//7.2.3.1//EN
BEGIN:VEVENT
UID:39@brontebirthplace.com
DTSTART:20260523T110000Z
DTEND:20260523T130000Z
DTSTAMP:20260304T142131Z
URL:https://brontebirthplace.com/events/may-23rd-discover-thornton-bronte-
 birthplace-walking-tour/
SUMMARY:May 23rd - Discover Thornton: Brontë Birthplace Walking Tour
DESCRIPTION:Date: Saturday May 23rd 11am - 1pm\n\nStarting Point: The Bront
 e Birthplace\, 72-74 Market Street\, Thornton\, BD13 3HF.\n\nJoin us for o
 ur Walking Tour of historic Thornton\, uncovering the rich cultural\, indu
 strial\, and architectural heritage of the Brontë children's birthplace. 
 For many years\, Thornton has been the forgotten chapter in the Brontë st
 ory but since the grand opening of the Brontë Birthplace\, we’re workin
 g to shine a light on the fascinating history of this charming and charact
 erful village.\n\nLed by local historian and Bronte family expert Paul and
  a group of local volunteers\, this 2-hour tour begins at the Brontë Bir
 thplace and guides you through key sites including the Brontë Bell Chapel
  ruins\, Kipping House\, South Square Centre\, and the village’s iconic 
 snickets and ginnels.\n\nOnce overlooked\, Thornton’s story is now being
  brought to life. Step into its vibrant past and discover how it helped sh
 ape the Brontës.\n\nThe tour ends back at the Birthplace\, where you’re
  welcome to relax in the café\, browse the gift shop\, or book a house to
 ur.\n\nBuy Your Tickets Now
ATTACH;FMTTYPE=image/jpeg:https://brontebirthplace.com/wp-content/uploads/
 2025/09/20250913_092450414_iOS-Large.jpg
CATEGORIES:Walking Tour
END:VEVENT
END:VCALENDAR