BEGIN:VCALENDAR
VERSION:2.0
PRODID:-//wp-events-plugin.com//7.2.3.1//EN
BEGIN:VEVENT
UID:1@brontebirthplace.com
DTSTART;VALUE=DATE:20250823
DTEND;VALUE=DATE:20251101
DTSTAMP:20250828T141100Z
URL:https://brontebirthplace.com/events/artist-in-residence-sam-sharp-exhi
 bition/
SUMMARY:Artist in Residence: Sam Sharp Exhibition
DESCRIPTION:Now showing in the Parlour at the Brontë Birthplace\n\nStep in
 to the birthplace of the Brontë siblings and experience the quiet beauty 
 of Yorkshire through the eyes of Samuel Sharp\, our Artist in Residence. 
 A Bradford-born digital painter and NHS pharmacist\, Sam’s work captures
  the emotional depth of everyday landscapes — hedgerows\, pavements\, ro
 adside trees\, and sweeping skies — all created on his iPad.\n\nHis exhi
 bition\, The Long Look\, invites visitors to slow down and see the ordina
 ry with fresh attention. Rooted in a practice of care and observation\, Sa
 m’s paintings echo the Brontës’ own deep connection to place and seas
 on.\n\nCome and explore how contemporary art and literary heritage meet in
  this intimate\, historic space.
ATTACH;FMTTYPE=image/jpeg:https://brontebirthplace.com/wp-content/uploads/
 2025/08/Sam-Sharp-Artist3.jpeg
CATEGORIES:Exhibition
LOCATION:The Parlour\, Brontë Birthplace\, Bradford\, United Kingdom
X-APPLE-STRUCTURED-LOCATION;VALUE=URI;X-ADDRESS=Brontë Birthplace\, Bradfo
 rd\, United Kingdom;X-APPLE-RADIUS=100;X-TITLE=The Parlour:geo:0,0
END:VEVENT
END:VCALENDAR