BEGIN:VCALENDAR
VERSION:2.0
PRODID:-//wp-events-plugin.com//7.2.3.1//EN
BEGIN:VEVENT
UID:28@brontebirthplace.com
DTSTART:20260124T000000Z
DTEND:20260329T000000Z
DTSTAMP:20260113T202707Z
URL:https://brontebirthplace.com/events/artist-in-residence-garett-wilde/
SUMMARY:Artist in Residence: Garett Wilde
DESCRIPTION:Exhibition: Brontë Country and Beyond\nWe are delighted to ann
 ounce Garett Wilde as our next Artist in Residence at the Brontë Birthpla
 ce.\nAmerican-born photographer and Social Media Marketing Manager\, Garet
 t Wilde now lives locally in Haworth and draws deep inspiration from the l
 andscapes\, architecture\, and atmosphere of the Brontë Country. His work
  captures the intimate details of the moorlands and historic built environ
 ment\, shaped by a profound admiration for the Brontë Sisters and the fol
 klore\, and history of the region.\nGarett’s photography is immersive an
 d evocative\, focusing on natural light across the four seasons to reveal 
 the raw\, magical qualities of the landscape he walks daily. His work invi
 tes viewers to slow down\, observe closely\, and experience Brontë Countr
 y through a contemplative lens — while also reflecting his passion for t
 ravel and exploration beyond the moors.\nBrontë Country and Beyond forms 
 part of our ongoing Artist in Residence programme\, celebrating contempora
 ry creatives whose work resonates with the spirit\, landscape\, and legacy
  of the Brontës.\nFollow Garett Wilde on Facebook\n📍 Exhibition: Bront
 ë Birthplace\, Thornton📅 Dates: Saturday 24th January–March 2026🎟
  Included with standard entry
ATTACH;FMTTYPE=image/jpeg:https://brontebirthplace.com/wp-content/uploads/
 2026/01/PHOTO-2026-01-13-13-40-23.jpg
CATEGORIES:Artist in Residence,Exhibition
END:VEVENT
END:VCALENDAR